BEGIN:VCALENDAR
VERSION:2.0
PRODID:-//wp-events-plugin.com//7.2.3.1//EN
TZID:Europe/Paris
X-WR-TIMEZONE:Europe/Paris
BEGIN:VEVENT
UID:5@clementineprouteau.com
DTSTART;TZID=Europe/Paris;VALUE=DATE:20200108
DTEND;TZID=Europe/Paris;VALUE=DATE:20200109
DTSTAMP:20191227T094710Z
URL:https://www.clementineprouteau.com/events/test-2/
SUMMARY:test
DESCRIPTION:test
CATEGORIES:Ateliers
LOCATION:Ateliers\, test\, test\, test\, test\, test\, Belgique
X-APPLE-STRUCTURED-LOCATION;VALUE=URI;X-ADDRESS=test\, test\, test\, test\,
  test\, Belgique;X-APPLE-RADIUS=100;X-TITLE=Ateliers:geo:0,0
END:VEVENT
BEGIN:VTIMEZONE
TZID:Europe/Paris
X-LIC-LOCATION:Europe/Paris
BEGIN:STANDARD
DTSTART:20191027T020000
TZOFFSETFROM:+0200
TZOFFSETTO:+0100
TZNAME:CET
END:STANDARD
END:VTIMEZONE
END:VCALENDAR